BEGIN:VCALENDAR
VERSION:2.0
PRODID:icalendar-ruby
CALSCALE:GREGORIAN
BEGIN:VEVENT
DTSTAMP:20260424T161212Z
UID:eb1d2490-af3c-4aea-8b38-a663116234be
DTSTART:20250403T181500Z
DTEND:20250403T191501Z
LOCATION:Te Manawa (Hall)
SUMMARY:Dads & Daughters Breakfast 
END:VEVENT
END:VCALENDAR
