BEGIN:VCALENDAR
VERSION:2.0
PRODID:icalendar-ruby
CALSCALE:GREGORIAN
BEGIN:VEVENT
DTSTAMP:20260424T161217Z
UID:2e0a090e-5e0d-4716-beca-0f2816f35792
DTSTART:20250410T214500Z
DTEND:20250410T224501Z
SUMMARY:End of Term Mass
END:VEVENT
END:VCALENDAR
